BEGIN:VCALENDAR
VERSION:2.0
PRODID:Oliver Rudin - Musiker
BEGIN:VEVENT
UID:69e8167091328
DTSTART:20190616T080000Z
SEQUENCE:0
TRANSP:OPAQUE
DTEND:20190616T090000Z
LOCATION:Münster\nBasel\nSchweiz
SUMMARY:Konfirmationsgottesdienst
CLASS:PUBLIC
DESCRIPTION:OYENGA Gospelchor am Münster Basel\nMusikalische Umrahmung des
  Konfirmationsgottesdienstes
DTSTAMP:20260422T022936Z
END:VEVENT
END:VCALENDAR